BEGIN:VCALENDAR
BEGIN:VEVENT
SUMMARY:20 Years of Yarn/Wire\, Night #3/3: Yarn/Wire plays works by Tysha
 wn Sorey & Mei-Fang Lin [nycnoise]
DTSTART:20251029T220000Z
DTEND:20251029T230000Z
UID:bd749f5e-e0f8-4ac9-af0c-16f123c05a06
CREATED:20260420T145345Z
DESCRIPTION:
LOCATION:miller theatre (2960 broadway\, manhattan)
END:VEVENT
END:VCALENDAR
