BEGIN:VCALENDAR
BEGIN:VEVENT
SUMMARY:Sugar\, Sugar: Lisa Fagan & Lena Engelstein\, Nile Harris [nycnois
 e]
DTSTART:20250604T230000Z
DTEND:20250605T000000Z
UID:a0bc05ca-9830-4779-a4f8-d771af0d5e98
CREATED:20260420T145325Z
DESCRIPTION:
LOCATION:domino square (12 S 3rd St\, Brooklyn\, NY 11249)
END:VEVENT
END:VCALENDAR
