BEGIN:VCALENDAR
BEGIN:VEVENT
SUMMARY:Sugar\, Sugar: Tiresias: Mysteriosa (ft. Mizu) [nycnoise]
DTSTART:20250605T230000Z
DTEND:20250606T000000Z
UID:33154928-f67d-41d1-9204-36064a663c21
CREATED:20260420T145551Z
DESCRIPTION:
LOCATION:domino square (12 S 3rd St\, Brooklyn\, NY 11249)
END:VEVENT
END:VCALENDAR
