BEGIN:VCALENDAR
BEGIN:VEVENT
SUMMARY:Sugar\, Sugar: Rashaun Mitchell + Silas Riener (ft. Charmaine Lee 
 & more) [nycnoise]
DTSTART:20250611T230000Z
DTEND:20250612T000000Z
UID:747d1cd4-f5c3-42df-b597-ee9c2147e6ce
CREATED:20260420T145539Z
DESCRIPTION:media design by Jesse Stiles\, dancers Morgan Amirah Burns\, M
 ichael Greenberg\, Cori Kresge\, Mitchell\, Chaery Moon\, Riener\; guest c
 urator Sasha Okshteyn
LOCATION:domino square (12 S 3rd St\, Brooklyn\, NY 11249)
END:VEVENT
END:VCALENDAR
