BEGIN:VCALENDAR
BEGIN:VEVENT
SUMMARY:Sugar\, Sugar: Back to Nature (Isaiah Barr\, David Frazier Jr.\, W
 illiam Parker\, & Special Guests) [nycnoise]
DTSTART:20250618T230000Z
DTEND:20250619T000000Z
UID:db0bc08c-62c9-464e-abcc-5baab8d33473
CREATED:20260420T145554Z
DESCRIPTION:co-presented w/ National Sawdust
LOCATION:domino square (12 S 3rd St\, Brooklyn\, NY 11249)
END:VEVENT
END:VCALENDAR
