BEGIN:VCALENDAR
BEGIN:VEVENT
SUMMARY:Rachika Nayar & Nina Keith Present Disiniblud [nycnoise]
DTSTART:20250912T233000Z
DTEND:20250913T003000Z
UID:4108938a-b895-4993-a0e0-73ea1ac4480f
CREATED:20260420T163320Z
DESCRIPTION:
LOCATION:national sawdust (80 n. 6th st.\, brooklyn)
END:VEVENT
END:VCALENDAR
