BEGIN:VCALENDAR
BEGIN:VEVENT
SUMMARY:Key Hutch\, Worldwide Seagull (Anna Abondolo)\, iiisa [nycnoise]
DTSTART:20250609T000000Z
DTEND:20250609T010000Z
UID:82650541-c8de-4b12-b07e-88871589dbf3
CREATED:20260420T145547Z
DESCRIPTION:7:30pm doors
LOCATION:owl (497 rogers ave\, brooklyn)
END:VEVENT
END:VCALENDAR
