BEGIN:VCALENDAR
BEGIN:VEVENT
SUMMARY:Sam Amidon & Guests [nycnoise]
DTSTART:20250619T010000Z
DTEND:20250619T020000Z
UID:35e0425a-325a-4567-8464-e3185b224b0c
CREATED:20260420T145414Z
DESCRIPTION:8:30pm doors
LOCATION:owl (497 rogers ave\, brooklyn)
END:VEVENT
END:VCALENDAR
