BEGIN:VCALENDAR
BEGIN:VEVENT
SUMMARY:Deidamoth (FKA Jae Soto)\, Charlotte Greve\, Charlotte Jacobs [nyc
 noise]
DTSTART:20250621T000000Z
DTEND:20250621T010000Z
UID:08b681ae-af69-4cd6-baf4-5f7dad36041a
CREATED:20260420T145506Z
DESCRIPTION:7:30pm doors
LOCATION:owl (497 rogers ave\, brooklyn)
END:VEVENT
END:VCALENDAR
