BEGIN:VCALENDAR
BEGIN:VEVENT
SUMMARY:Elora\, Chase Elodia\, Chris Morrisey [nycnoise]
DTSTART:20250712T000000Z
DTEND:20250712T010000Z
UID:07fc7585-1843-419d-8ac8-34b8a191037a
CREATED:20260420T145215Z
DESCRIPTION:7:30pm doors
LOCATION:owl (497 rogers ave\, brooklyn)
END:VEVENT
END:VCALENDAR
