BEGIN:VCALENDAR
BEGIN:VEVENT
SUMMARY:Smith Taylor\, Alena Spanger\, Carmen Quill [nycnoise]
DTSTART:20250719T000000Z
DTEND:20250719T010000Z
UID:3fc3ea4d-81c0-4d24-9795-a08471ac1e84
CREATED:20260420T145135Z
DESCRIPTION:7:30pm doors
LOCATION:owl (497 rogers ave\, brooklyn)
END:VEVENT
END:VCALENDAR
