BEGIN:VCALENDAR
BEGIN:VEVENT
SUMMARY:Sexmob (Steve Bernstein\, Kenny Wollesen\, Briggan Krauss\, Tony S
 cherr) [nycnoise]
DTSTART:20250721T000000Z
DTEND:20250721T010000Z
UID:bf1c62e9-6311-464c-8c72-4dca0813ecc6
CREATED:20260420T164008Z
DESCRIPTION:7:30pm doors
LOCATION:owl (497 rogers ave\, brooklyn)
END:VEVENT
END:VCALENDAR
