BEGIN:VCALENDAR
BEGIN:VEVENT
SUMMARY:Adam O'Farrill\, Allan Mednard [nycnoise]
DTSTART:20250725T000000Z
DTEND:20250725T010000Z
UID:af1161a6-c07d-4518-ab1d-219952edc273
CREATED:20260420T145146Z
DESCRIPTION:7:30pm doors\; AM w/ Carmen Quill\, Angelica Sanchez
LOCATION:owl (497 rogers ave\, brooklyn)
END:VEVENT
END:VCALENDAR
