BEGIN:VCALENDAR
BEGIN:VEVENT
SUMMARY:Little Mystery\, Office Culture\, more eaze [nycnoise]
DTSTART:20250726T000000Z
DTEND:20250726T010000Z
UID:a414b3a6-3b57-43c6-be69-4d87141173ba
CREATED:20260420T145209Z
DESCRIPTION:7:30pm doors
LOCATION:owl (497 rogers ave\, brooklyn)
END:VEVENT
END:VCALENDAR
