BEGIN:VCALENDAR
BEGIN:VEVENT
SUMMARY:Sugar Hill Salon: Justine Hooper / Alfredo Colón / Shara Lunon [n
 ycnoise]
DTSTART:20250627T230000Z
DTEND:20250628T000000Z
UID:be4df43f-e423-457c-b0f4-c8aa0692b98a
CREATED:20260420T145341Z
DESCRIPTION:
LOCATION:jackie robinson bandshell (116 Bradhurst Ave.\, New York\, NY 100
 39)
END:VEVENT
END:VCALENDAR
