BEGIN:VCALENDAR
BEGIN:VEVENT
SUMMARY:Lesley Mok\, Alex Goldberg / Dan Kleederman\, Lucia Stavros [nycno
 ise]
DTSTART:20250617T233000Z
DTEND:20250618T003000Z
UID:aec4af47-23de-4ea0-8a0c-8e70a5593f04
CREATED:20260420T145547Z
DESCRIPTION:confirming asap (on lesley's site)
LOCATION:threes brewing (333 douglass st.\, brooklyn)
END:VEVENT
END:VCALENDAR
