BEGIN:VCALENDAR
BEGIN:VEVENT
SUMMARY:Crit Night: Amirtha Kidambi\, Avila Santo (DJ) [nycnoise]
DTSTART:20250611T233000Z
DTEND:20250612T003000Z
UID:13a90c20-fe5f-45ab-a40e-a6330a4d00ef
CREATED:20260420T145607Z
DESCRIPTION:7pm doors\, presentation by Azikiwe Mohammed &amp\; convo mode
 rated by Morgan Bassichis\; i *think* this has live music ??
LOCATION:ace hotel bk lobby (252 schermerhorn st.\, brooklyn)
END:VEVENT
END:VCALENDAR
