BEGIN:VCALENDAR
BEGIN:VEVENT
SUMMARY:Live A/V: Kristina Warren\, Jean Carla Rodea [nycnoise]
DTSTART:20250601T230000Z
DTEND:20250602T000000Z
UID:f54a7577-aab7-4701-8fb3-e534ed6ca8b6
CREATED:20260420T145356Z
DESCRIPTION:LIVESTREAM
LOCATION:microscope gallery (525 w. 29th st.\, 2nd fl.\, manhattan)
END:VEVENT
END:VCALENDAR
