BEGIN:VCALENDAR
BEGIN:VEVENT
SUMMARY:Ed Shrader’s Music Beat\, Open Head\, Tomato Flower\, Credit [ny
 cnoise]
DTSTART:20250619T230000Z
DTEND:20250620T000000Z
UID:6786de9f-2675-4ce4-aa36-4b5c0fefd2cc
CREATED:20260420T145352Z
DESCRIPTION:
LOCATION:broadway (1272 broadway\, brooklyn)
END:VEVENT
END:VCALENDAR
