BEGIN:VCALENDAR
BEGIN:VEVENT
SUMMARY:Jim E. Brown\, Matthew Danger Lippman\, Mormon Toasterhead\, Ric R
 oyer [nycnoise]
DTSTART:20250720T230000Z
DTEND:20250721T000000Z
UID:d077122e-041d-4559-bba8-6c2422c5eacf
CREATED:20260420T145302Z
DESCRIPTION:
LOCATION:broadway (1272 broadway\, brooklyn)
END:VEVENT
END:VCALENDAR
