BEGIN:VCALENDAR
BEGIN:VEVENT
SUMMARY:wav.pool 4: Warp Duo\, Adriene Lilly\, Kia Miakka Natisse [nycnois
 e]
DTSTART:20250607T000000Z
DTEND:20250607T010000Z
UID:a8e27972-17cd-403f-a44f-f9c4d8516398
CREATED:20260420T145353Z
DESCRIPTION:6:30pm doors\, also someone lemme know if this is *not* the 3r
 d floor bar?
LOCATION:red room at kgb bar (85 e. 4th st.\, 3rd fl.\, manhattan)
END:VEVENT
END:VCALENDAR
