BEGIN:VCALENDAR
BEGIN:VEVENT
SUMMARY:Sudden Somethings Night #1/2: Marc Edwards\, gabby fluke-mogul\, L
 SDANIEL\, James May\, marc perez\, Matthew Ryals\, Drew Wesely\, The Phoen
 ix Witch [nycnoise]
DTSTART:20250627T230000Z
DTEND:20250628T000000Z
UID:dba9cbb4-dc22-48ea-8e52-d78db9fda6c0
CREATED:20260420T145258Z
DESCRIPTION:doors close at 7:30pm\, ticket required\; "ad-hoc configuratio
 ns" for "2nd Bi-annual Some Things From Nothing Ad-Hoc\," presented w/ the
  Colloquium for Unpopular Culture\; lineup on insta
LOCATION:nyu silver center (31 Washington Pl\, New York\, NY 10003)
END:VEVENT
END:VCALENDAR
