BEGIN:VCALENDAR
BEGIN:VEVENT
SUMMARY:New Dance Alliance Performance Mix Fest\, Day #2/4 [nycnoise]
DTSTART:20250606T230000Z
DTEND:20250607T000000Z
UID:155532b9-d35b-4f1c-afa8-f08e26bf6530
CREATED:20260420T145317Z
DESCRIPTION:7pm *&amp\;* 8:30pm programs\, click thru
LOCATION:abrons arts center (466 grand st.\, manhattan)
END:VEVENT
END:VCALENDAR
