BEGIN:VCALENDAR
BEGIN:VEVENT
SUMMARY:New Dance Alliance Performance Mix Fest\, Day #3/4 [nycnoise]
DTSTART:20250607T233000Z
DTEND:20250608T003000Z
UID:b74db31c-645f-44a7-9e65-e6c546896c71
CREATED:20260420T145335Z
DESCRIPTION:
LOCATION:abrons arts center (466 grand st.\, manhattan)
END:VEVENT
END:VCALENDAR
