BEGIN:VCALENDAR
BEGIN:VEVENT
SUMMARY:Striped Light presents: Patrick Holmes / Evan Crane / Miles Wick\,
  Bentley Anderson\, Sandy Gordon / Ka Baird / Daniel Carter / AC Diamond [
 nycnoise]
DTSTART:20250617T000000Z
DTEND:20250617T010000Z
UID:5a013676-7ae9-4219-9f9c-de13e95d7689
CREATED:20260420T145156Z
DESCRIPTION:
LOCATION:striped light
END:VEVENT
END:VCALENDAR
