BEGIN:VCALENDAR
BEGIN:VEVENT
SUMMARY:Spontaneous Resonance: James McKain / Hans Young Binter / Evan Pal
 mer / Michael Larocca\, Jonathan Reisin / Megumi Yonezawa / Ken Filiano / 
 Ken Kobayashi [nycnoise]
DTSTART:20250612T000000Z
DTEND:20250612T010000Z
UID:24b7231d-b791-4394-b7e2-aba49586f17c
CREATED:20260420T145357Z
DESCRIPTION:
LOCATION:ibeam (168 7th st.\, brooklyn)
END:VEVENT
END:VCALENDAR
