BEGIN:VCALENDAR
BEGIN:VEVENT
SUMMARY:Upper Wilds\, Point Break 2\, Mega Don Quixote [nycnoise]
DTSTART:20250610T233000Z
DTEND:20250611T003000Z
UID:7a898516-ce96-4ce5-8742-285d0a3c62e9
CREATED:20260420T145344Z
DESCRIPTION:
LOCATION:union pool (484 union ave\, brooklyn)
END:VEVENT
END:VCALENDAR
