BEGIN:VCALENDAR
BEGIN:VEVENT
SUMMARY:Ryan Sawyer Shaker Ensemble\, Brandon Lopez\, Stuart Bogie [nycnoi
 se]
DTSTART:20250620T230000Z
DTEND:20250621T000000Z
UID:7debebc0-30a5-421a-bbeb-c17be8dfe903
CREATED:20260420T145320Z
DESCRIPTION:RSSE w/ Nate Wooley\, Jessica Pavone\, Laura Cocks\, Madison G
 reenstone\, Stuart Bogie\, Zeena Parkins
LOCATION:union pool (484 union ave\, brooklyn)
END:VEVENT
END:VCALENDAR
