BEGIN:VCALENDAR
BEGIN:VEVENT
SUMMARY:Lea Bertucci\, Silk Fence (Arian Shafiee\, Booker Stardrum\, Justi
 n Frye)\, Andrew Bernstein\, Greg Fox (DJ) [nycnoise]
DTSTART:20250702T230000Z
DTEND:20250703T000000Z
UID:9a9e9362-d042-4bff-a893-aaa2c69fe4f5
CREATED:20260420T145136Z
DESCRIPTION:
LOCATION:union pool (484 union ave\, brooklyn)
END:VEVENT
END:VCALENDAR
