BEGIN:VCALENDAR
BEGIN:VEVENT
SUMMARY:Jeffrey Lewis & The Voltage\, Grasping Straws (Album Release)\, sh
 epup [nycnoise]
DTSTART:20250723T233000Z
DTEND:20250724T003000Z
UID:327900e6-c86b-4070-9fb2-f3cf89a40d94
CREATED:20260420T145213Z
DESCRIPTION:
LOCATION:union pool (484 union ave\, brooklyn)
END:VEVENT
END:VCALENDAR
