BEGIN:VCALENDAR
BEGIN:VEVENT
SUMMARY:Mary Lattimore Residency Night #1/3\, thunderwerld [nycnoise]
DTSTART:20250918T233000Z
DTEND:20250919T003000Z
UID:b0406c1d-b6a8-4263-b29e-cd96abc738e2
CREATED:20260420T163233Z
DESCRIPTION:
LOCATION:union pool (484 union ave\, brooklyn)
END:VEVENT
END:VCALENDAR
