BEGIN:VCALENDAR
BEGIN:VEVENT
SUMMARY:Mary Lattimore Residency Night #3/3\, thunderwerld [nycnoise]
DTSTART:20250920T233000Z
DTEND:20250921T003000Z
UID:95369384-a684-4140-abe9-321e1ce9dca4
CREATED:20260420T163130Z
DESCRIPTION:
LOCATION:union pool (484 union ave\, brooklyn)
END:VEVENT
END:VCALENDAR
