BEGIN:VCALENDAR
BEGIN:VEVENT
SUMMARY:Summer by Shea x GUNK: Youbet\, Gymshorts\, Youth Large\, Gunk (DJ
 ) [nycnoise]
DTSTART:20250621T210000Z
DTEND:20250621T220000Z
UID:c6c3579a-0157-4d62-bad1-a8843b024f09
CREATED:20260420T145458Z
DESCRIPTION:
LOCATION:rippers (8601 shore front pkwy\, rockaway beach)
END:VEVENT
END:VCALENDAR
