BEGIN:VCALENDAR
BEGIN:VEVENT
SUMMARY:Summer by Shea: La Banda Chuska\, Ben Seretan\, PFFU\, Hellgirl\, 
 Washer [nycnoise]
DTSTART:20250704T210000Z
DTEND:20250704T220000Z
UID:c9e312e7-ba7e-49cb-b2b5-386e9bd38ada
CREATED:20260420T145449Z
DESCRIPTION:
LOCATION:rippers (8601 shore front pkwy\, rockaway beach)
END:VEVENT
END:VCALENDAR
