BEGIN:VCALENDAR
BEGIN:VEVENT
SUMMARY:Summer by Shea: Real Young & Lazy Horse [nycnoise]
DTSTART:20250705T210000Z
DTEND:20250705T220000Z
UID:a3ebc869-6b0b-4d1f-abb0-b850e2a93fe1
CREATED:20260420T164013Z
DESCRIPTION:
LOCATION:rippers (8601 shore front pkwy\, rockaway beach)
END:VEVENT
END:VCALENDAR
