BEGIN:VCALENDAR
BEGIN:VEVENT
SUMMARY:Summer by Shea x Hell Gate: PC Worship\, High.\, Lukka [nycnoise]
DTSTART:20250726T210000Z
DTEND:20250726T220000Z
UID:6c385985-8290-46d9-834c-adae2d1524bc
CREATED:20260420T164158Z
DESCRIPTION:
LOCATION:rippers (8601 shore front pkwy\, rockaway beach)
END:VEVENT
END:VCALENDAR
