BEGIN:VCALENDAR
BEGIN:VEVENT
SUMMARY:Summer by Shea: "Volvo" (17th-yr Anniversary Show)\, Jobber [nycno
 ise]
DTSTART:20250808T230000Z
DTEND:20250809T000000Z
UID:bb0b565c-8518-419f-b633-a0ec0e4d71b1
CREATED:20260420T145326Z
DESCRIPTION:"doors" 5pm\, comments hear 7pm start
LOCATION:rippers (8601 shore front pkwy\, rockaway beach)
END:VEVENT
END:VCALENDAR
