BEGIN:VCALENDAR
BEGIN:VEVENT
SUMMARY:PUNK ISLAND 2025: Adult Human Females\, Couch Slut\, Frida Kill\, 
 Genre is Death\, Nihiloceros\, Pinc Louds\, Rude Mechanical Orchestra\, & 
 way more [nycnoise]
DTSTART:20250608T150000Z
DTEND:20250608T160000Z
UID:e29f4af3-12da-4120-8fbf-798cb10fab75
CREATED:20260420T145502Z
DESCRIPTION:click thru for performers\, 7 stages\, idk when or where peopl
 e play
LOCATION:punk island at randall's island park (20 Randalls Is Park\, New Y
 ork\, NY 10035)
END:VEVENT
END:VCALENDAR
