BEGIN:VCALENDAR
BEGIN:VEVENT
SUMMARY:Paige Bday Show: Spite FuXXX\, Irrevery\, Toby Goodshank\, Sugarli
 fe\, & more [nycnoise]
DTSTART:20250609T000000Z
DTEND:20250609T010000Z
UID:51ddf4df-4858-4e6c-9ead-5a15c3d034b7
CREATED:20260420T145556Z
DESCRIPTION:7pm doors
LOCATION:our wicked lady roof (153 morgan ave\, brooklyn)
END:VEVENT
END:VCALENDAR
