BEGIN:VCALENDAR
BEGIN:VEVENT
SUMMARY:Oh Bondage Up Yours: Edging\, Bushfire\, Adult Human Females\, Gal
 ice Cooper\, Whyte Lipstick\, Genre is Death\, The Lookout Honeys\, The Ro
 ulettes [nycnoise]
DTSTART:20250621T210000Z
DTEND:20250621T220000Z
UID:b08984b4-f279-4a1b-977e-24d6c7d3502e
CREATED:20260420T145503Z
DESCRIPTION:
LOCATION:our wicked lady roof (153 morgan ave\, brooklyn)
END:VEVENT
END:VCALENDAR
