BEGIN:VCALENDAR
BEGIN:VEVENT
SUMMARY:Gaza Benefit: Lee Lee b2b Stud1nt\, Via App\, Lil Zé\, MC Spike E
 inbinder [nycnoise]
DTSTART:20250611T020000Z
DTEND:20250611T030000Z
UID:e5c1c7ba-b4a8-4ea6-827b-5f3644e8d68f
CREATED:20260420T145546Z
DESCRIPTION:🇵🇸 "benefit a displaced family from Palestine ...&nbsp\;
 raise funds for the Massoods"
LOCATION:tv eye (1647 Weirfield St\, Ridgewood\, NY 11385)
END:VEVENT
END:VCALENDAR
