BEGIN:VCALENDAR
BEGIN:VEVENT
SUMMARY:Sarmat\, Splinternet\, Bludgeoner\, Hemophage\, & more [nycnoise]
DTSTART:20250607T200000Z
DTEND:20250607T210000Z
UID:a1a985fb-71c4-42ed-9d64-965567567015
CREATED:20260420T145301Z
DESCRIPTION:
LOCATION:bar freda (801 seneca ave\, ridgewood)
END:VEVENT
END:VCALENDAR
