BEGIN:VCALENDAR
BEGIN:VEVENT
SUMMARY:Marzana & the Bandits\, A Bunch of Dead People\, The Fools\, Atlis
  [nycnoise]
DTSTART:20250629T230000Z
DTEND:20250630T000000Z
UID:6a1b33e1-d734-4047-a731-6f9e87e54909
CREATED:20260420T145302Z
DESCRIPTION:
LOCATION:bar freda (801 seneca ave\, ridgewood)
END:VEVENT
END:VCALENDAR
