BEGIN:VCALENDAR
BEGIN:VEVENT
SUMMARY:Servants\, Pillowbiter\, Poverty Prawn\, Keefchamber\, Botanica [n
 ycnoise]
DTSTART:20250611T230000Z
DTEND:20250612T000000Z
UID:21391e14-98b0-4276-88b9-e18ba0b4f5ff
CREATED:20260420T145342Z
DESCRIPTION:
LOCATION:[RIP] rabbit hole evergreen (513 Evergreen Ave\, Brooklyn\, NY 11
 221)
END:VEVENT
END:VCALENDAR
