BEGIN:VCALENDAR
BEGIN:VEVENT
SUMMARY:Libby Quinn\, Retail Drugs\, Death Drive\, Sable [nycnoise]
DTSTART:20250611T230000Z
DTEND:20250612T000000Z
UID:fa2fad45-b844-4942-9546-88e89eba03f4
CREATED:20260420T145422Z
DESCRIPTION:
LOCATION:unruly collective (200 Cooper St\, Brooklyn\, NY 11207)
END:VEVENT
END:VCALENDAR
