BEGIN:VCALENDAR
BEGIN:VEVENT
SUMMARY:ARTIFACT Experimental: Neti-Neti (Amirtha Kidambi & Matt Evans)\, 
 Glasspack (Henry Birdsey & Ian McColm)\, Jordan Sand [nycnoise]
DTSTART:20250625T000000Z
DTEND:20250625T010000Z
UID:6acea6c5-12cc-4497-9dac-f61e9f1a9af9
CREATED:20260420T145323Z
DESCRIPTION:7pm doors\, curated by Brian Wenner &amp\; Matthew Ryals
LOCATION:sleepwalk (251 bushwick ave\, brooklyn)
END:VEVENT
END:VCALENDAR
