BEGIN:VCALENDAR
BEGIN:VEVENT
SUMMARY:Austin Larkin\, Aerial East\, Susan Hefner & Kevin Shea [nycnoise]
DTSTART:20250621T224500Z
DTEND:20250621T234500Z
UID:fea29bc4-d691-4dc4-9070-4ff42408c179
CREATED:20260420T145343Z
DESCRIPTION:
LOCATION:union street studio (78 Union St\, Brooklyn\, NY 11231)
END:VEVENT
END:VCALENDAR
