BEGIN:VCALENDAR
BEGIN:VEVENT
SUMMARY:REQUIRED RESISTANCE Palestine + Sudan Fundraiser: Nappy Nina\, Bri
 a Monét\, omololú\, Dayii (DJ) [nycnoise]
DTSTART:20250613T230000Z
DTEND:20250614T000000Z
UID:0b90b447-a238-426f-b431-1c1d126c2834
CREATED:20260420T145419Z
DESCRIPTION:🇵🇸 PACBI
LOCATION:intercomm (584 Woodward Ave\, Ridgewood\, NY 11385)
END:VEVENT
END:VCALENDAR
