BEGIN:VCALENDAR
BEGIN:VEVENT
SUMMARY:Kate Williams: '100 Questions For My Birth Parents' [nycnoise]
DTSTART:20250614T230000Z
DTEND:20250615T000000Z
UID:d2596f0e-69b1-4f2c-a965-baba1d61c9ed
CREATED:20260420T145319Z
DESCRIPTION:🇵🇸 PACBI
LOCATION:intercomm (584 Woodward Ave\, Ridgewood\, NY 11385)
END:VEVENT
END:VCALENDAR
