BEGIN:VCALENDAR
BEGIN:VEVENT
SUMMARY:Indeterminate Arts Fest\, Day #1/2: Jack Pottz + Wtfaach\, Cosmic 
 Percussion Ensemble ft. Marc Edwards\, Tim Pickerell / G.T. Arpe / Jaguar 
 Psychosis / Grey White\, Indeterminate Ensemble\, Sam Day Harmet [nycnoise
 ]
DTSTART:20250620T204500Z
DTEND:20250620T214500Z
UID:f850379f-b9a4-4386-a4bf-d41d53c1245d
CREATED:20260420T145334Z
DESCRIPTION:IE: Ayumi Ishito\, Marcus Cummins\, Owen Chen\, John Marc Dega
 ard\; SDH Sound Painting Ensemble + live &amp\; improvised projections\, v
 endors\, food &amp\; more
LOCATION:living gallery (1094 broadway\, brooklyn)
END:VEVENT
END:VCALENDAR
